BEGIN:VCALENDAR
VERSION:2.0
PRODID:-//Diocèse d&#039; Idiofa - ECPv6.8.3//NONSGML v1.0//EN
CALSCALE:GREGORIAN
METHOD:PUBLISH
X-WR-CALNAME:Diocèse d&#039; Idiofa
X-ORIGINAL-URL:https://diocese-idiofa.org
X-WR-CALDESC:Évènements pour Diocèse d&#039; Idiofa
REFRESH-INTERVAL;VALUE=DURATION:PT1H
X-Robots-Tag:noindex
X-PUBLISHED-TTL:PT1H
BEGIN:VTIMEZONE
TZID:Europe/Paris
BEGIN:DAYLIGHT
TZOFFSETFROM:+0100
TZOFFSETTO:+0200
TZNAME:CEST
DTSTART:20170326T010000
END:DAYLIGHT
BEGIN:STANDARD
TZOFFSETFROM:+0200
TZOFFSETTO:+0100
TZNAME:CET
DTSTART:20171029T010000
END:STANDARD
END:VTIMEZONE
BEGIN:VEVENT
DTSTART;TZID=Europe/Paris:20170924T080000
DTEND;TZID=Europe/Paris:20170929T170000
DTSTAMP:20260424T175617
CREATED:20171121T095036Z
LAST-MODIFIED:20171121T095036Z
UID:56173-1506240000-1506704400@diocese-idiofa.org
SUMMARY:session de pré-rentrée à Kinshasa
DESCRIPTION:
URL:https://diocese-idiofa.org/event/session-de-pre-rentree-a-kinshasa/
LOCATION:KWILU
END:VEVENT
END:VCALENDAR